BEGIN:VCALENDAR
VERSION:2.0
CALSCALE:GREGORIAN
PRODID:-//WordPress//RSVPMaker//EN
METHOD:REQUEST
BEGIN:VEVENT
DTSTAMP:20260423T180216Z
UID:7BCDF75AD237B8E02E301F4091FB6BC8@rsvpmaker.com
SEQUENCE:0
STATUS:CONFIRMED
DTSTART:20170921T223000Z
DTEND:20170921T233000Z
LOCATION:See\: https\://huntsvillensa.com/rsvpmaker/sept-social-2017-0
 9-21/
SUMMARY:Sept Social
DESCRIPTION:Event info\: https\://huntsvillensa.com/rsvpmaker/sept-soc
 ial-2017-09-21/
END:VEVENT
END:VCALENDAR