BEGIN:VCALENDAR
VERSION:2.0
CALSCALE:GREGORIAN
PRODID:-//WordPress//RSVPMaker//EN
METHOD:REQUEST
BEGIN:VEVENT
DTSTAMP:20260423T163850Z
UID:07A96B1F61097CCB54BE14D6A47439B0@rsvpmaker.com
SEQUENCE:0
STATUS:CONFIRMED
DTSTART:20181207T233000Z
DTEND:20181208T003000Z
LOCATION:See\: https\://huntsvillensa.com/rsvpmaker/nsa-h-christmas-pa
 rty-yellowhammer-brewing-2018-12-07/
SUMMARY:NSA-H Christmas Party - Yellowhammer Brewing
DESCRIPTION:Event info\: https\://huntsvillensa.com/rsvpmaker/nsa-h-ch
 ristmas-party-yellowhammer-brewing-2018-12-07/
END:VEVENT
END:VCALENDAR