BEGIN:VCALENDAR
VERSION:2.0
CALSCALE:GREGORIAN
PRODID:-//WordPress//RSVPMaker//EN
METHOD:REQUEST
BEGIN:VEVENT
DTSTAMP:20260423T180731Z
UID:99C5E07B4D5DE9D18C350CDF64C5AA3D@rsvpmaker.com
SEQUENCE:0
STATUS:CONFIRMED
DTSTART:20171206T230000Z
DTEND:20171207T000000Z
LOCATION:See\: https\://huntsvillensa.com/rsvpmaker/nsa-h-annual-chris
 tmas-party-6-december-2017-12-06/
SUMMARY:NSA-H Annual Christmas Party 6 December
DESCRIPTION:Event info\: https\://huntsvillensa.com/rsvpmaker/nsa-h-an
 nual-christmas-party-6-december-2017-12-06/
END:VEVENT
END:VCALENDAR