BEGIN:VCALENDAR
VERSION:2.0
CALSCALE:GREGORIAN
PRODID:-//WordPress//RSVPMaker//EN
METHOD:REQUEST
BEGIN:VEVENT
DTSTAMP:20260423T163156Z
UID:C6036A69BE21CB660499B75718A3EF24@rsvpmaker.com
SEQUENCE:0
STATUS:CONFIRMED
DTSTART:20211115T000000Z
DTEND:20211115T010000Z
LOCATION:See\: https\://huntsvillensa.com/rsvpmaker/night-stalker-foun
 dation-event-hsv-2021-11-14/
SUMMARY:Night Stalker Foundation Event-HSV
DESCRIPTION:Event info\: https\://huntsvillensa.com/rsvpmaker/night-st
 alker-foundation-event-hsv-2021-11-14/
END:VEVENT
END:VCALENDAR