BEGIN:VCALENDAR
VERSION:2.0
CALSCALE:GREGORIAN
PRODID:-//WordPress//RSVPMaker//EN
METHOD:REQUEST
BEGIN:VEVENT
DTSTAMP:20260423T181006Z
UID:BCA82E41EE7B0833588399B1FCD177C7@rsvpmaker.com
SEQUENCE:0
STATUS:CONFIRMED
DTSTART:20170316T223000Z
DTEND:20170316T233000Z
LOCATION:See\: https\://huntsvillensa.com/rsvpmaker/march-nsa-h-social
 -16-march-2017-at-the-rocket-city-tavern-2017-03-16/
SUMMARY:March NSA H social 16 March 2017 at the Rocket City Tavern
DESCRIPTION:Event info\: https\://huntsvillensa.com/rsvpmaker/march-ns
 a-h-social-16-march-2017-at-the-rocket-city-tavern-2017-03-16/
END:VEVENT
END:VCALENDAR