BEGIN:VCALENDAR
VERSION:2.0
CALSCALE:GREGORIAN
PRODID:-//WordPress//RSVPMaker//EN
METHOD:REQUEST
BEGIN:VEVENT
DTSTAMP:20260423T180327Z
UID:285E19F20BEDED7D215102B49D5C09A0@rsvpmaker.com
SEQUENCE:0
STATUS:CONFIRMED
DTSTART:20170720T223000Z
DTEND:20170720T233000Z
LOCATION:See\: https\://huntsvillensa.com/rsvpmaker/july-social-rsvp-h
 ere-2017-07-20/
SUMMARY:July Social RSVP here!
DESCRIPTION:Event info\: https\://huntsvillensa.com/rsvpmaker/july-soc
 ial-rsvp-here-2017-07-20/
END:VEVENT
END:VCALENDAR