BEGIN:VCALENDAR
VERSION:2.0
CALSCALE:GREGORIAN
PRODID:-//WordPress//RSVPMaker//EN
METHOD:REQUEST
BEGIN:VEVENT
DTSTAMP:20260423T180925Z
UID:C9892A989183DE32E976C6F04E700201@rsvpmaker.com
SEQUENCE:0
STATUS:CONFIRMED
DTSTART:20180118T233000Z
DTEND:20180119T003000Z
LOCATION:See\: https\://huntsvillensa.com/rsvpmaker/january-social-roc
 kaxe-city-axe-throwing-club-18-jan-2018-01-18/
SUMMARY:January Social Rockaxe City Axe Throwing Club 18 Jan
DESCRIPTION:Event info\: https\://huntsvillensa.com/rsvpmaker/january-
 social-rockaxe-city-axe-throwing-club-18-jan-2018-01-18/
END:VEVENT
END:VCALENDAR