BEGIN:VCALENDAR
VERSION:2.0
CALSCALE:GREGORIAN
PRODID:-//WordPress//RSVPMaker//EN
METHOD:REQUEST
BEGIN:VEVENT
DTSTAMP:20260423T180333Z
UID:8DD48D6A2E2CAD213179A3992C0BE53C@rsvpmaker.com
SEQUENCE:0
STATUS:CONFIRMED
DTSTART:20170119T233000Z
DTEND:20170120T003000Z
LOCATION:See\: https\://huntsvillensa.com/rsvpmaker/january-social-obb
 -madison-2017-01-19/
SUMMARY:January Social OBB Madison
DESCRIPTION:Event info\: https\://huntsvillensa.com/rsvpmaker/january-
 social-obb-madison-2017-01-19/
END:VEVENT
END:VCALENDAR