BEGIN:VCALENDAR
VERSION:2.0
CALSCALE:GREGORIAN
PRODID:-//WordPress//RSVPMaker//EN
METHOD:REQUEST
BEGIN:VEVENT
DTSTAMP:20260423T180327Z
UID:996A7FA078CC36C46D02F9AF3BEF918B@rsvpmaker.com
SEQUENCE:0
STATUS:CONFIRMED
DTSTART:20180215T230000Z
DTEND:20180216T000000Z
LOCATION:See\: https\://huntsvillensa.com/rsvpmaker/feb-social-rsvp-he
 re-2018-02-15/
SUMMARY:FEB SOCIAL RSVP HERE
DESCRIPTION:Event info\: https\://huntsvillensa.com/rsvpmaker/feb-soci
 al-rsvp-here-2018-02-15/
END:VEVENT
END:VCALENDAR