BEGIN:VCALENDAR
VERSION:2.0
CALSCALE:GREGORIAN
PRODID:-//WordPress//RSVPMaker//EN
METHOD:REQUEST
BEGIN:VEVENT
DTSTAMP:20260423T163610Z
UID:D5CFEAD94F5350C12C322B5B664544C1@rsvpmaker.com
SEQUENCE:0
STATUS:CONFIRMED
DTSTART:20190221T233000Z
DTEND:20190222T003000Z
LOCATION:See\: https\://huntsvillensa.com/rsvpmaker/feb-social-at-blue
 -pants-brewery-21-feb/
SUMMARY:Feb Social at Blue Pants Brewery 21 Feb
DESCRIPTION:Event info\: https\://huntsvillensa.com/rsvpmaker/feb-soci
 al-at-blue-pants-brewery-21-feb/
END:VEVENT
END:VCALENDAR