BEGIN:VCALENDAR
VERSION:2.0
CALSCALE:GREGORIAN
PRODID:-//WordPress//RSVPMaker//EN
METHOD:REQUEST
BEGIN:VEVENT
DTSTAMP:20260423T180333Z
UID:D709F38EF758B5066EF31B18039B8CE5@rsvpmaker.com
SEQUENCE:0
STATUS:CONFIRMED
DTSTART:20170216T233000Z
DTEND:20170217T003000Z
LOCATION:See\: https\://huntsvillensa.com/rsvpmaker/feb-social-16-feb-
 2017-2017-02-16/
SUMMARY:FEB SOCIAL 16 FEB 2017
DESCRIPTION:Event info\: https\://huntsvillensa.com/rsvpmaker/feb-soci
 al-16-feb-2017-2017-02-16/
END:VEVENT
END:VCALENDAR