BEGIN:VCALENDAR
VERSION:2.0
CALSCALE:GREGORIAN
PRODID:-//WordPress//RSVPMaker//EN
METHOD:REQUEST
BEGIN:VEVENT
DTSTAMP:20260423T180457Z
UID:CF67355A3333E6E143439161ADC2D82E@rsvpmaker.com
SEQUENCE:0
STATUS:CONFIRMED
DTSTART:20170817T223000Z
DTEND:20170817T233000Z
LOCATION:See\: https\://huntsvillensa.com/rsvpmaker/august-social-at-r
 ocket-city-tavern-2017-08-17/
SUMMARY:August Social at Rocket City Tavern
DESCRIPTION:Event info\: https\://huntsvillensa.com/rsvpmaker/august-s
 ocial-at-rocket-city-tavern-2017-08-17/
END:VEVENT
END:VCALENDAR