BEGIN:VCALENDAR
VERSION:2.0
CALSCALE:GREGORIAN
PRODID:-//WordPress//RSVPMaker//EN
METHOD:REQUEST
BEGIN:VEVENT
DTSTAMP:20260423T180919Z
UID:E44FEA3BEC53BCEA3B7513CCEF5857AC@rsvpmaker.com
SEQUENCE:0
STATUS:CONFIRMED
DTSTART:20170929T123000Z
DTEND:20170929T133000Z
LOCATION:See\: https\://huntsvillensa.com/rsvpmaker/9th-annual-irons-m
 an-golf-tourney-29-september-rtj-hampton-cove-2017-09-29/
SUMMARY:9th Annual Irons Man Golf Tourney 29 September RTJ Hampton Cov
 e
DESCRIPTION:Event info\: https\://huntsvillensa.com/rsvpmaker/9th-annu
 al-irons-man-golf-tourney-29-september-rtj-hampton-cove-2017-09-29/
END:VEVENT
END:VCALENDAR