BEGIN:VCALENDAR
VERSION:2.0
CALSCALE:GREGORIAN
PRODID:-//WordPress//RSVPMaker//EN
METHOD:REQUEST
BEGIN:VEVENT
DTSTAMP:20260423T180516Z
UID:248E844336797EC98478F85E7626DE4A@rsvpmaker.com
SEQUENCE:0
STATUS:CONFIRMED
DTSTART:20170513T131500Z
DTEND:20170513T141500Z
LOCATION:See\: https\://huntsvillensa.com/rsvpmaker/2nd-annual-veteran
 s-motorcycle-rally-2017-05-13/
SUMMARY:2nd Annual Veterans Motorcycle Rally
DESCRIPTION:Event info\: https\://huntsvillensa.com/rsvpmaker/2nd-annu
 al-veterans-motorcycle-rally-2017-05-13/
END:VEVENT
END:VCALENDAR