BEGIN:VCALENDAR
VERSION:2.0
CALSCALE:GREGORIAN
PRODID:-//WordPress//RSVPMaker//EN
METHOD:REQUEST
BEGIN:VEVENT
DTSTAMP:20260423T192412Z
UID:1BB91F73E9D31EA2830A5E73CE3ED328@rsvpmaker.com
SEQUENCE:0
STATUS:CONFIRMED
DTSTART:20171019T223000Z
DTEND:20171019T233000Z
LOCATION:See\: https\://huntsvillensa.com/rsvpmaker/19-oct-social-at-s
 traight-to-ale-on-clinton-ave-2017-10-19/
SUMMARY:19 OCT Social at Straight to Ale on Clinton AVE
DESCRIPTION:Event info\: https\://huntsvillensa.com/rsvpmaker/19-oct-s
 ocial-at-straight-to-ale-on-clinton-ave-2017-10-19/
END:VEVENT
END:VCALENDAR