BEGIN:VCALENDAR
VERSION:2.0
CALSCALE:GREGORIAN
PRODID:-//WordPress//RSVPMaker//EN
METHOD:REQUEST
BEGIN:VEVENT
DTSTAMP:20260423T193028Z
UID:B6F0479AE87D244975439C6124592772@rsvpmaker.com
SEQUENCE:0
STATUS:CONFIRMED
DTSTART:20170518T223000Z
DTEND:20170518T233000Z
LOCATION:See\: https\://huntsvillensa.com/rsvpmaker/18-may-social-at-s
 traight-to-ale-on-clinton-2017-05-18/
SUMMARY:18 May Social at Straight to Ale on Clinton
DESCRIPTION:Event info\: https\://huntsvillensa.com/rsvpmaker/18-may-s
 ocial-at-straight-to-ale-on-clinton-2017-05-18/
END:VEVENT
END:VCALENDAR