BEGIN:VCALENDAR
VERSION:2.0
CALSCALE:GREGORIAN
PRODID:-//WordPress//RSVPMaker//EN
METHOD:REQUEST
BEGIN:VEVENT
DTSTAMP:20260423T180644Z
UID:3A0772443A0739141292A5429B952FE6@rsvpmaker.com
SEQUENCE:0
STATUS:CONFIRMED
DTSTART:20171116T233000Z
DTEND:20171117T003000Z
LOCATION:See\: https\://huntsvillensa.com/rsvpmaker/16-november-social
 -at-yellowhammer-brewing-2017-11-16/
SUMMARY:16 November Social at Yellowhammer Brewing
DESCRIPTION:Event info\: https\://huntsvillensa.com/rsvpmaker/16-novem
 ber-social-at-yellowhammer-brewing-2017-11-16/
END:VEVENT
END:VCALENDAR