BEGIN:VCALENDAR
VERSION:2.0
CALSCALE:GREGORIAN
PRODID:-//WordPress//RSVPMaker//EN
METHOD:REQUEST
BEGIN:VEVENT
DTSTAMP:20260423T180618Z
UID:1A5B1E4DAAE265B790965A275B53AE50@rsvpmaker.com
SEQUENCE:0
STATUS:CONFIRMED
DTSTART:20170615T223000Z
DTEND:20170615T233000Z
LOCATION:See\: https\://huntsvillensa.com/rsvpmaker/15-june-social-at-
 obb-in-madison-2017-06-15/
SUMMARY:15 June Social at OBB in Madison
DESCRIPTION:Event info\: https\://huntsvillensa.com/rsvpmaker/15-june-
 social-at-obb-in-madison-2017-06-15/
END:VEVENT
END:VCALENDAR